BEGIN:VCALENDAR
VERSION:2.0
PRODID:-//Géopolis - Confédération Française des Acteurs en Sciences de la 
 Terre//NONSGML kigkonsult.se iCalcreator 2.30.10//
CALSCALE:GREGORIAN
METHOD:PUBLISH
UID:6e0eefbc-9f95-4b49-ba1e-536ebd8b51c1
X-WR-CALNAME:iCagenda
X-WR-CALDESC:Event Management Extension for Joomla!
X-WR-RELCALID:3E26604A-50F4-4449-8B3E-E4F4932D05B5
X-WR-TIMEZONE:UTC
BEGIN:VTIMEZONE
TZID:UTC
END:VTIMEZONE
BEGIN:VEVENT
UID:a451447a-e099-4db6-99a9-4de4d77eedf7
DTSTAMP:20260425T233603Z
CATEGORIES:Bourses Minéraux & Fossiles
CLASS:PUBLIC
DESCRIPTION:
DTSTART:20230916T100000Z
DTEND:20230917T180000Z
GEO:+48.213737;+7.137346
LOCATION:Parc minier de Tellure - Sainte Marie aux Mines
ORGANIZER;CN=:arnaud.soumis@orange.fr
SEQUENCE:1
SUMMARY:7ème édition de l'expo vente européenne de minéraux et litho
TRANSP:OPAQUE
URL:https://geopolis.fr/agenda-2/toutes-les-manifestations-2/444-7eme-editi
 on-de-l-expo-vente-europeenne-de-mineraux-et-litho.html
END:VEVENT
END:VCALENDAR
