BEGIN:VCALENDAR
VERSION:2.0
PRODID:-//Géopolis - Confédération Française des Acteurs en Sciences de la 
 Terre//NONSGML kigkonsult.se iCalcreator 2.30.10//
CALSCALE:GREGORIAN
METHOD:PUBLISH
UID:9b073036-40c4-419a-8feb-f7554149640c
X-WR-CALNAME:iCagenda
X-WR-CALDESC:Event Management Extension for Joomla!
X-WR-RELCALID:3E26604A-50F4-4449-8B3E-E4F4932D05B5
X-WR-TIMEZONE:UTC
BEGIN:VTIMEZONE
TZID:UTC
END:VTIMEZONE
BEGIN:VEVENT
UID:7cb55649-b7a5-4ab5-bd76-52d6a5a6281e
DTSTAMP:20260424T201026Z
CATEGORIES:Bourses Minéraux & Fossiles
CLASS:PUBLIC
DESCRIPTION:
DTSTART:20230902T100000Z
DTEND:20230903T180000Z
GEO:+46.130112;+3.458911
LOCATION:ESPACE CHAMBON à CUSSET
ORGANIZER;CN=:loisirs.voyages.chiens.verts03@gmail.com
SEQUENCE:1
SUMMARY:MINERAPOLIS
TRANSP:OPAQUE
URL:https://geopolis.fr/agenda-2/toutes-les-manifestations-2/471-minerapoli
 s-2.html
END:VEVENT
END:VCALENDAR
