BEGIN:VCALENDAR
VERSION:2.0
PRODID:-//Géopolis - Confédération Française des Acteurs en Sciences de la 
 Terre//NONSGML kigkonsult.se iCalcreator 2.30.10//
CALSCALE:GREGORIAN
METHOD:PUBLISH
UID:0a9e9c06-f0a3-4586-a6b0-28d57d1743de
X-WR-CALNAME:iCagenda
X-WR-CALDESC:Event Management Extension for Joomla!
X-WR-RELCALID:3E26604A-50F4-4449-8B3E-E4F4932D05B5
X-WR-TIMEZONE:UTC
BEGIN:VTIMEZONE
TZID:UTC
END:VTIMEZONE
BEGIN:VEVENT
UID:414829c9-1337-48c6-b7c9-95b6f2ff2f37
DTSTAMP:20260424T055514Z
CATEGORIES:Bourses Minéraux & Fossiles
CLASS:PUBLIC
DESCRIPTION:
DTSTART:20240302T100000Z
DTEND:20240303T180000Z
GEO:+47.501438;+0.788756
LOCATION:salle Raymond Devos\, rue Alfred Tiphaine\, 37380 Monnaie
ORGANIZER:
SEQUENCE:1
SUMMARY:37ème salon minéraux et fossiles
TRANSP:OPAQUE
URL:https://geopolis.fr/agenda-2/toutes-les-manifestations-2/528-37eme-salo
 n-mineraux-et-fossiles.html
END:VEVENT
END:VCALENDAR
