BEGIN:VCALENDAR
VERSION:2.0
PRODID:-//Géopolis - Confédération Française des Acteurs en Sciences de la 
 Terre//NONSGML kigkonsult.se iCalcreator 2.30.10//
CALSCALE:GREGORIAN
METHOD:PUBLISH
UID:35a69e1a-b24e-4ead-8b92-0b3eae606530
X-WR-CALNAME:iCagenda
X-WR-CALDESC:Event Management Extension for Joomla!
X-WR-RELCALID:3E26604A-50F4-4449-8B3E-E4F4932D05B5
X-WR-TIMEZONE:UTC
BEGIN:VTIMEZONE
TZID:UTC
END:VTIMEZONE
BEGIN:VEVENT
UID:1255f954-4fde-46d3-9d5f-90323d29a25c
DTSTAMP:20260425T030015Z
CATEGORIES:Bourses Minéraux & Fossiles
CLASS:PUBLIC
DESCRIPTION:
DTSTART:20240426T100000Z
DTEND:20240428T180000Z
GEO:+45.054714;+6.030663
LOCATION:
ORGANIZER;CN=:fetedesmineraux@orange.fr
SEQUENCE:1
SUMMARY:FETE DES MINERAUX
TRANSP:OPAQUE
URL:https://geopolis.fr/agenda-2/toutes-les-manifestations-2/547-fete-des-m
 ineraux-3.html
END:VEVENT
END:VCALENDAR
