BEGIN:VCALENDAR
VERSION:2.0
PRODID:-//Géopolis - Confédération Française des Acteurs en Sciences de la 
 Terre//NONSGML kigkonsult.se iCalcreator 2.30.10//
CALSCALE:GREGORIAN
METHOD:PUBLISH
UID:8b80eba1-e8a1-4cfb-bc6d-d96c30f92d11
X-WR-CALNAME:iCagenda
X-WR-CALDESC:Event Management Extension for Joomla!
X-WR-RELCALID:3E26604A-50F4-4449-8B3E-E4F4932D05B5
X-WR-TIMEZONE:UTC
BEGIN:VTIMEZONE
TZID:UTC
END:VTIMEZONE
BEGIN:VEVENT
UID:1baf4dac-5534-4249-9360-7b45f83d78f5
DTSTAMP:20260425T012655Z
CATEGORIES:Bourses Minéraux & Fossiles
CLASS:PUBLIC
DESCRIPTION:
DTSTART:20241006T090000Z
DTEND:20241006T100000Z
GEO:+47.887966;+7.231267
LOCATION:Salle MAB Soultz 68360
ORGANIZER:
SEQUENCE:1
SUMMARY:KALITROC
TRANSP:OPAQUE
URL:https://geopolis.fr/agenda-2/toutes-les-manifestations-2/583-kalitroc/2
 024-10-06-09-00.html
END:VEVENT
END:VCALENDAR
