BEGIN:VCALENDAR
VERSION:2.0
PRODID:-//Géopolis - Confédération Française des Acteurs en Sciences de la 
 Terre//NONSGML kigkonsult.se iCalcreator 2.30.10//
CALSCALE:GREGORIAN
METHOD:PUBLISH
UID:22bd277a-31cc-4216-b1ba-b061fd3a05bb
X-WR-CALNAME:iCagenda
X-WR-CALDESC:Event Management Extension for Joomla!
X-WR-RELCALID:3E26604A-50F4-4449-8B3E-E4F4932D05B5
X-WR-TIMEZONE:UTC
BEGIN:VTIMEZONE
TZID:UTC
END:VTIMEZONE
BEGIN:VEVENT
UID:e4083c07-e1cc-4cb0-a03f-be461097ec50
DTSTAMP:20260424T055036Z
CATEGORIES:Evènements
CLASS:PUBLIC
DESCRIPTION:
DTSTART:20250215T140000Z
DTEND:20250215T180000Z
GEO:+45.774143;+3.088325
LOCATION:Muséum Henri-Lecoq
ORGANIZER;CN=:contact@kipuka.fr
SEQUENCE:1
SUMMARY:Amène ton caillou
TRANSP:OPAQUE
URL:https://geopolis.fr/agenda-2/toutes-les-manifestations-2/651-amene-ton-
 caillou.html
END:VEVENT
END:VCALENDAR
