BEGIN:VCALENDAR
VERSION:2.0
PRODID:-//Géopolis - Confédération Française des Acteurs en Sciences de la 
 Terre//NONSGML kigkonsult.se iCalcreator 2.30.10//
CALSCALE:GREGORIAN
METHOD:PUBLISH
UID:10221396-28f8-4bbf-8e54-26eb5c106702
X-WR-CALNAME:iCagenda
X-WR-CALDESC:Event Management Extension for Joomla!
X-WR-RELCALID:3E26604A-50F4-4449-8B3E-E4F4932D05B5
X-WR-TIMEZONE:UTC
BEGIN:VTIMEZONE
TZID:UTC
END:VTIMEZONE
BEGIN:VEVENT
UID:df48d4af-89f5-4209-a746-752668719e6f
DTSTAMP:20260422T230430Z
CATEGORIES:Bourses Minéraux & Fossiles
CLASS:PUBLIC
DESCRIPTION:
DTSTART:20251206T100000Z
DTEND:20251207T190000Z
GEO:+48.866577;+2.138295
LOCATION:Fondation Bouzemont  - 10 rue du général Leclerc - 78380 Bougival
ORGANIZER;CN=:cristal.ammonite@gmail.com
SEQUENCE:1
SUMMARY:La bourse aux Minéraux & Fossiles de Bougival
TRANSP:OPAQUE
URL:https://geopolis.fr/agenda-2/toutes-les-manifestations-2/752-la-bourse-
 aux-mineraux-fossiles-de-bougival.html
END:VEVENT
END:VCALENDAR
