BEGIN:VCALENDAR
VERSION:2.0
PRODID:-//Géopolis - Confédération Française des Acteurs en Sciences de la 
 Terre//NONSGML kigkonsult.se iCalcreator 2.30.10//
CALSCALE:GREGORIAN
METHOD:PUBLISH
UID:94a52ad1-ec30-4781-87f7-84edb5fcef7d
X-WR-CALNAME:iCagenda
X-WR-CALDESC:Event Management Extension for Joomla!
X-WR-RELCALID:3E26604A-50F4-4449-8B3E-E4F4932D05B5
X-WR-TIMEZONE:UTC
BEGIN:VTIMEZONE
TZID:UTC
END:VTIMEZONE
BEGIN:VEVENT
UID:b3b5aaab-6e1e-42b5-a370-93dd98932bba
DTSTAMP:20260421T233757Z
CATEGORIES:Bourses Minéraux & Fossiles
CLASS:PUBLIC
DESCRIPTION:
DTSTART:20260306T100000Z
DTEND:20260308T180000Z
GEO:+48.822639;+2.316018
LOCATION:Institut du Judo – 21 avenue de la Porte de Châtillon\, 75014 Pari
 s
ORGANIZER;CN=:kristaliaplm@gmail.com
SEQUENCE:1
SUMMARY:Salon International de Minéraux à Paris – 6\, 7 & 8 mars 2026 (Pari
 s 14e)
TRANSP:OPAQUE
URL:https://geopolis.fr/agenda-2/toutes-les-manifestations-2/772-salon-inte
 rnational-de-mineraux-a-paris-6-7-8-mars-2026-paris-14e.html
END:VEVENT
END:VCALENDAR
