BEGIN:VCALENDAR
VERSION:2.0
PRODID:-//Géopolis - Confédération Française des Acteurs en Sciences de la 
 Terre//NONSGML kigkonsult.se iCalcreator 2.30.10//
CALSCALE:GREGORIAN
METHOD:PUBLISH
UID:3439ca53-381a-4076-a161-8dcb5c281447
X-WR-CALNAME:iCagenda
X-WR-CALDESC:Event Management Extension for Joomla!
X-WR-RELCALID:3E26604A-50F4-4449-8B3E-E4F4932D05B5
X-WR-TIMEZONE:UTC
BEGIN:VTIMEZONE
TZID:UTC
END:VTIMEZONE
BEGIN:VEVENT
UID:78018c37-ba8b-4639-82d0-05675d5c31ed
DTSTAMP:20260426T000950Z
CATEGORIES:Bourses Minéraux & Fossiles
CLASS:PUBLIC
DESCRIPTION;ALTREP="CID:<FFFF__=0ABBE548DFE235B58f9e8a93d@coffeebean.com>":
 Site internet :https://www.facebook.com/BDEGeolCF/\n \nHoraires et prix : 
 9h -18hPrix : 2 euros\, gratuits pour les -12 ans et les étudiants.\n \nNo
 m du contact pour cette manifestation : Vincent Monchal &amp\; Sophie Grau
 l\n \nAdresse mail de contact : :v.monchal@laposte.net \; sophiegraul@oran
 ge.fr\n 
DTSTART:20160430T080000Z
DTEND:20160502T170000Z
GEO:+45.753616;+3.086051
LOCATION:Salle des fêtes de Beaumont
ORGANIZER:
SEQUENCE:1
SUMMARY:2ème Bourse aux minéraux du BDE de Géologie de Clermont-Ferrand
TRANSP:OPAQUE
URL:https://geopolis.fr/agenda/toutes-les-manifestations-2/1-2eme-bourse-au
 x-mineraux-du-bde-de-geologie-de-clermont-ferrand.html
END:VEVENT
END:VCALENDAR
