BEGIN:VCALENDAR
VERSION:2.0
PRODID:-//Géopolis - Confédération Française des Acteurs en Sciences de la 
 Terre//NONSGML kigkonsult.se iCalcreator 2.30.10//
CALSCALE:GREGORIAN
METHOD:PUBLISH
UID:b90dc5e7-dd9c-498f-a12d-800940556e3a
X-WR-CALNAME:iCagenda
X-WR-CALDESC:Event Management Extension for Joomla!
X-WR-RELCALID:3E26604A-50F4-4449-8B3E-E4F4932D05B5
X-WR-TIMEZONE:UTC
BEGIN:VTIMEZONE
TZID:UTC
END:VTIMEZONE
BEGIN:VEVENT
UID:37a8ad02-4aa9-4efc-838b-7cb1dd6ff6a5
DTSTAMP:20260420T233211Z
CATEGORIES:Bourses Minéraux & Fossiles
CLASS:PUBLIC
DESCRIPTION;ALTREP="CID:<FFFF__=0ABBE548DFE235B58f9e8a93d@coffeebean.com>":
 &nbsp\;\n4ème Bourse Minéraux &amp\; Fossiles\n&nbsp\;\nde Montpellier – P
 alavas (34250)\n&nbsp\;\nLe 05 &amp\; 06 septembre 2020 \n&nbsp\;\nA la Ha
 lle des expositions - Salle bleue \n&nbsp\;\nEspace Minéraux\, Fossiles\, 
 Lithothérapie intuitive &amp\; Pierres du Zodiaque\n&nbsp\;\nPièces de col
 lection des 5 continents\, Pierres brutes\, taillées ou montées en bijoux\
 , \n&nbsp\;\nBijoux de créateurs\, Gemmologie\, Météorites…\n&nbsp\;\ndans
  le cadre de la 18 ème édition du Salon des ANIMAUX et de la NATURE\n&nbsp
 \;\nLeader des Salons Nature du Grand Sud\n&nbsp\;\nL’édition 2019 a compt
 abilisée plus de 6000 visiteurs&nbsp\;!!\n&nbsp\;\nNombreuses animations l
 iées à la Nature\n&nbsp\;\net sur le thème animalier…venez nombreux\, à ne
  pas manquer.\n&nbsp\;\nChargé de promotion - Contact - Réservation \n&nbs
 p\;\nLe Naturaliste 06 10 27 54 87\n&nbsp\;\njean-marc.bousquet0266@orange
 .fr\n&nbsp\;\nEspace restauration-Parking gratuit et gardé\n&nbsp\;\nCOVID
 -19 Consignes sanitaires en vigueur\n&nbsp\;\n
DTSTART:20200905T000000Z
DTEND:20200906T000000Z
GEO:+43.532146;+3.927543
LOCATION:Halle des expositions - Salle bleue
ORGANIZER;CN=:jean-marc.bousquet0266@orange.fr
SEQUENCE:1
SUMMARY:4ème Bourse aux Minéraux & Fossiles - Palavas les Flots (34)
TRANSP:OPAQUE
URL:https://geopolis.fr/agenda/toutes-les-manifestations-2/286-4eme-bourse-
 aux-mineraux-fossiles-de-palavas-les-flots.html
END:VEVENT
END:VCALENDAR
