BEGIN:VCALENDAR
VERSION:2.0
PRODID:-//Géopolis - Confédération Française des Acteurs en Sciences de la 
 Terre//NONSGML kigkonsult.se iCalcreator 2.30.10//
CALSCALE:GREGORIAN
METHOD:PUBLISH
UID:0f1fd942-9380-4cfb-aa66-f86266a65173
X-WR-CALNAME:iCagenda
X-WR-CALDESC:Event Management Extension for Joomla!
X-WR-RELCALID:3E26604A-50F4-4449-8B3E-E4F4932D05B5
X-WR-TIMEZONE:UTC
BEGIN:VTIMEZONE
TZID:UTC
END:VTIMEZONE
BEGIN:VEVENT
UID:d55ba994-38c3-4e84-977d-0c48621538cb
DTSTAMP:20260422T093634Z
CATEGORIES:Bourses Minéraux & Fossiles
CLASS:PUBLIC
DESCRIPTION:
DTSTART:20230513T093000Z
DTEND:20230514T183000Z
GEO:+48.820122;+7.791628
LOCATION:Haguenau
ORGANIZER;CN=:geawonders@gmail.com
SEQUENCE:1
SUMMARY:Bourse mineraux fossiles et bijoux
TRANSP:OPAQUE
URL:https://geopolis.fr/agenda/toutes-les-manifestations-2/462-bourse-miner
 aux-fossiles-et-bijoux.html
END:VEVENT
END:VCALENDAR
