BEGIN:VCALENDAR
VERSION:2.0
PRODID:-//Géopolis - Confédération Française des Acteurs en Sciences de la 
 Terre//NONSGML kigkonsult.se iCalcreator 2.30.10//
CALSCALE:GREGORIAN
METHOD:PUBLISH
UID:72af218c-3cec-4e71-94d9-ac72e3d9379b
X-WR-CALNAME:iCagenda
X-WR-CALDESC:Event Management Extension for Joomla!
X-WR-RELCALID:3E26604A-50F4-4449-8B3E-E4F4932D05B5
X-WR-TIMEZONE:UTC
BEGIN:VTIMEZONE
TZID:UTC
END:VTIMEZONE
BEGIN:VEVENT
UID:adc13f5d-be3e-49ce-9203-aa7a0a9eb10d
DTSTAMP:20260423T082100Z
CATEGORIES:Bourses Minéraux & Fossiles
CLASS:PUBLIC
DESCRIPTION:
DTSTART:20231125T090000Z
DTEND:20231126T180000Z
GEO:+44.285141;+4.835752
LOCATION:Salle des Fêtes\, Route de Bollène\, Suze-la-Rousse
ORGANIZER;CN=:agms.suze@gmail.com
SEQUENCE:1
SUMMARY:14eme Bourse Minéraux\, Fossiles et Bijoux
TRANSP:OPAQUE
URL:https://geopolis.fr/agenda/toutes-les-manifestations-2/503-14eme-bourse
 -mineraux-fossiles-et-bijoux.html
END:VEVENT
END:VCALENDAR
