BEGIN:VCALENDAR
VERSION:2.0
PRODID:-//Géopolis - Confédération Française des Acteurs en Sciences de la 
 Terre//NONSGML kigkonsult.se iCalcreator 2.30.10//
CALSCALE:GREGORIAN
METHOD:PUBLISH
UID:933181bf-2f18-4213-ac5a-8bf06943c43f
X-WR-CALNAME:iCagenda
X-WR-CALDESC:Event Management Extension for Joomla!
X-WR-RELCALID:3E26604A-50F4-4449-8B3E-E4F4932D05B5
X-WR-TIMEZONE:UTC
BEGIN:VTIMEZONE
TZID:UTC
END:VTIMEZONE
BEGIN:VEVENT
UID:21935994-4413-43f7-84cd-96179c7d6868
DTSTAMP:20260424T142820Z
CATEGORIES:Evènements
CLASS:PUBLIC
DESCRIPTION:
DTSTART:20240224T150000Z
DTEND:20240224T170000Z
GEO:+45.920502;+3.06111
LOCATION:Halle des Sports  Boulevard Desaix 063140 Châtel-Guyon
ORGANIZER:
SEQUENCE:1
SUMMARY:Assemblée Générale ordinaire de Géopolis
TRANSP:OPAQUE
URL:https://geopolis.fr/agenda/toutes-les-manifestations-2/533-assemblee-ge
 nerale-ordinaire-de-geopolis-2.html
END:VEVENT
END:VCALENDAR
