BEGIN:VCALENDAR
VERSION:2.0
PRODID:-//Géopolis - Confédération Française des Acteurs en Sciences de la 
 Terre//NONSGML kigkonsult.se iCalcreator 2.30.10//
CALSCALE:GREGORIAN
METHOD:PUBLISH
UID:af0f8863-e250-4b59-a711-7f1422804a85
X-WR-CALNAME:iCagenda
X-WR-CALDESC:Event Management Extension for Joomla!
X-WR-RELCALID:3E26604A-50F4-4449-8B3E-E4F4932D05B5
X-WR-TIMEZONE:UTC
BEGIN:VTIMEZONE
TZID:UTC
END:VTIMEZONE
BEGIN:VEVENT
UID:1589d5f0-5f42-4ae4-bf6d-0ddbb9687342
DTSTAMP:20260421T235555Z
CATEGORIES:Bourses Minéraux & Fossiles
CLASS:PUBLIC
DESCRIPTION:
DTSTART:20240421T105500Z
DTEND:20240421T195500Z
GEO:+47.389641;+6.895265
LOCATION:Dannemarie
ORGANIZER;CN=:sasepsas@gmail.com
SEQUENCE:1
SUMMARY:Salon de Dannemarie  (68)
TRANSP:OPAQUE
URL:https://geopolis.fr/agenda/toutes-les-manifestations-2/565-salon-de-dan
 nemarie-68/2024-04-21-10-55.html
END:VEVENT
END:VCALENDAR
