BEGIN:VCALENDAR
VERSION:2.0
PRODID:-//Géopolis - Confédération Française des Acteurs en Sciences de la 
 Terre//NONSGML kigkonsult.se iCalcreator 2.30.10//
CALSCALE:GREGORIAN
METHOD:PUBLISH
UID:2319a713-bd4f-411d-a3ac-dd7187cab2ec
X-WR-CALNAME:iCagenda
X-WR-CALDESC:Event Management Extension for Joomla!
X-WR-RELCALID:3E26604A-50F4-4449-8B3E-E4F4932D05B5
X-WR-TIMEZONE:UTC
BEGIN:VTIMEZONE
TZID:UTC
END:VTIMEZONE
BEGIN:VEVENT
UID:f5db70aa-a110-4d41-8760-44b01adbfd7a
DTSTAMP:20260423T220331Z
CATEGORIES:Bourses Minéraux & Fossiles
CLASS:PUBLIC
DESCRIPTION:
DTSTART:20250813T100000Z
DTEND:20250814T190000Z
GEO:+46.359997;+2.536866
LOCATION:Domerat (03)
ORGANIZER;CN=:fanfan03260@gmail.com
SEQUENCE:1
SUMMARY:Salon minéraux
TRANSP:OPAQUE
URL:https://geopolis.fr/agenda/toutes-les-manifestations-2/717-salon-minera
 ux-7.html
END:VEVENT
END:VCALENDAR
