BEGIN:VCALENDAR
VERSION:2.0
PRODID:-//Géopolis - Confédération Française des Acteurs en Sciences de la 
 Terre//NONSGML kigkonsult.se iCalcreator 2.30.10//
CALSCALE:GREGORIAN
METHOD:PUBLISH
UID:c288ca21-1c3c-4169-aa2a-0637e1626a40
X-WR-CALNAME:iCagenda
X-WR-CALDESC:Event Management Extension for Joomla!
X-WR-RELCALID:3E26604A-50F4-4449-8B3E-E4F4932D05B5
X-WR-TIMEZONE:UTC
BEGIN:VTIMEZONE
TZID:UTC
END:VTIMEZONE
BEGIN:VEVENT
UID:d5f5af4c-8592-4bd4-818f-2609f0c2e191
DTSTAMP:20260422T085442Z
CATEGORIES:Bourses Minéraux & Fossiles
CLASS:PUBLIC
DESCRIPTION:
DTSTART:20260228T100000Z
DTEND:20260301T180000Z
GEO:+48.380741;-4.305525
LOCATION:salle du Trimaran 29470 Loperhet
ORGANIZER;CN=:croc@gmx.fr
SEQUENCE:1
SUMMARY:2e salon Minéraux et Fossiles de la Rade de Brest
TRANSP:OPAQUE
URL:https://geopolis.fr/agenda/toutes-les-manifestations-2/758-2e-salon-min
 eraux-et-fossiles-de-la-rade-de-brest.html
END:VEVENT
END:VCALENDAR
