BEGIN:VCALENDAR
VERSION:2.0
PRODID:-//Géopolis - Confédération Française des Acteurs en Sciences de la 
 Terre//NONSGML kigkonsult.se iCalcreator 2.30.10//
CALSCALE:GREGORIAN
METHOD:PUBLISH
UID:8c62461e-04bb-4b8b-be0a-2700bd1616e3
X-WR-CALNAME:iCagenda
X-WR-CALDESC:Event Management Extension for Joomla!
X-WR-RELCALID:3E26604A-50F4-4449-8B3E-E4F4932D05B5
X-WR-TIMEZONE:UTC
BEGIN:VTIMEZONE
TZID:UTC
END:VTIMEZONE
BEGIN:VEVENT
UID:85556987-0899-44ee-b421-eae23617b67b
DTSTAMP:20260423T020352Z
CATEGORIES:Bourses Minéraux & Fossiles
CLASS:PUBLIC
DESCRIPTION:
DTSTART:20230211T100000Z
DTEND:20230212T180000Z
GEO:+48.973942;+2.347498
LOCATION:Salle des Fêtes
ORGANIZER;CN=:bertrand.e.baret@gmail.com
SEQUENCE:1
SUMMARY:Exposition Minéraux-Fossiles-Bijoux de Montmagny
TRANSP:OPAQUE
URL:https://geopolis.fr/agenda/toutes-les-manifestations/439-exposition-min
 eraux-fossiles-bijoux-de-montmagny.html
END:VEVENT
END:VCALENDAR
