BEGIN:VCALENDAR
VERSION:2.0
PRODID:-//Géopolis - Confédération Française des Acteurs en Sciences de la 
 Terre//NONSGML kigkonsult.se iCalcreator 2.30.10//
CALSCALE:GREGORIAN
METHOD:PUBLISH
UID:c3ba0fae-ac0c-44ed-ba6d-e604b79460ae
X-WR-CALNAME:iCagenda
X-WR-CALDESC:Event Management Extension for Joomla!
X-WR-RELCALID:3E26604A-50F4-4449-8B3E-E4F4932D05B5
X-WR-TIMEZONE:UTC
BEGIN:VTIMEZONE
TZID:UTC
END:VTIMEZONE
BEGIN:VEVENT
UID:658ee455-b5ba-4379-86e2-77ecc124848a
DTSTAMP:20260422T051200Z
CATEGORIES:Bourses Minéraux & Fossiles
CLASS:PUBLIC
DESCRIPTION;ALTREP="CID:<FFFF__=0ABBE548DFE235B58f9e8a93d@coffeebean.com>":
 Au Programme :\nUne trentaine d'exposants :​\nFossiles\, minéraux et bijou
 x​\nDes expositions :​\nDécouverte des grandes familles minéralogiques Dan
 s le monde des échinodermes Des squelettes de dinosaures\nProjections 3D :
  Téléchargez le programme !\nDes animations pour Enfants : à la découverte
  de la géologie\, des fossiles et des minéraux !​\nOrpaillage\, recherche 
 de fossiles\, coloriage\, origami de dinosaures\, observations au microsco
 pe\, posters pédagogiques et activités associées.​\n Mais aussi des confér
 ences\, tombolas\, restauration\,...\nEntrée 2 euros par adulte et gratuit
  pour les étudiants et moins de 18 ans.
DTSTART:20170325T100000Z
DTEND:20170326T180000Z
GEO:+49.459923;+2.067918
LOCATION:Institut Polytechnique LaSalle Beauvais
ORGANIZER:
SEQUENCE:1
SUMMARY:10ème Bourse Minéraux & Fossiles - Beauvais
TRANSP:OPAQUE
URL:https://geopolis.fr/agenda/toutes-les-manifestations/57-10eme-bourse-mi
 neraux-fossiles.html
END:VEVENT
END:VCALENDAR
