BEGIN:VCALENDAR
VERSION:2.0
PRODID:-//Géopolis - Confédération Française des Acteurs en Sciences de la 
 Terre//NONSGML kigkonsult.se iCalcreator 2.30.10//
CALSCALE:GREGORIAN
METHOD:PUBLISH
UID:b2015ec9-1359-4aca-b2e9-01e793972d8e
X-WR-CALNAME:iCagenda
X-WR-CALDESC:Event Management Extension for Joomla!
X-WR-RELCALID:3E26604A-50F4-4449-8B3E-E4F4932D05B5
X-WR-TIMEZONE:UTC
BEGIN:VTIMEZONE
TZID:UTC
END:VTIMEZONE
BEGIN:VEVENT
UID:43f9cb9c-2745-4d0c-9aef-cd5586db1b2c
DTSTAMP:20260420T000037Z
CATEGORIES:Bourses Minéraux & Fossiles
CLASS:PUBLIC
DESCRIPTION:
DTSTART:20260131T090000Z
DTEND:20260201T183000Z
GEO:+44.932549;+4.868437
LOCATION:SALLE AGORA
ORGANIZER;CN=:president@mf2607.org
SEQUENCE:1
SUMMARY:46ème Bourse Minéraux et Fossiles de Guilherand-Granges
TRANSP:OPAQUE
URL:https://geopolis.fr/agenda/toutes-les-manifestations/734-46eme-bourse-m
 ineraux-et-fossiles-de-guilherand-granges.html
END:VEVENT
END:VCALENDAR
