BEGIN:VCALENDAR
VERSION:2.0
PRODID:-//Géopolis - Confédération Française des Acteurs en Sciences de la 
 Terre//NONSGML kigkonsult.se iCalcreator 2.30.10//
CALSCALE:GREGORIAN
METHOD:PUBLISH
UID:9d57ca06-bea3-4736-b7bc-9c600c130f49
X-WR-CALNAME:iCagenda
X-WR-CALDESC:Event Management Extension for Joomla!
X-WR-RELCALID:3E26604A-50F4-4449-8B3E-E4F4932D05B5
X-WR-TIMEZONE:UTC
BEGIN:VTIMEZONE
TZID:UTC
END:VTIMEZONE
BEGIN:VEVENT
UID:746d0001-62d7-4c47-900f-664bc5692ec8
DTSTAMP:20260421T012927Z
CATEGORIES:Bourses Minéraux & Fossiles
CLASS:PUBLIC
DESCRIPTION:
DTSTART:20260510T090000Z
DTEND:20260510T170000Z
GEO:+43.94474;+2.207056
LOCATION:gymnase municipal Roger Salengro   à Saint Juéry  près d'Albi tarn
ORGANIZER;CN=:boursesaintjuerytarn2026@yahoo.fr
SEQUENCE:1
SUMMARY:bourse d'échanges  SAINT JUERY près d'ALBI
TRANSP:OPAQUE
URL:https://geopolis.fr/agenda/toutes-les-manifestations/759-bourse-dechang
 es-saint-juery-pres-dalbi/2026-05-10-09-00.html
END:VEVENT
END:VCALENDAR
