BEGIN:VCALENDAR
VERSION:2.0
PRODID:-//Géopolis - Confédération Française des Acteurs en Sciences de la 
 Terre//NONSGML kigkonsult.se iCalcreator 2.30.10//
CALSCALE:GREGORIAN
METHOD:PUBLISH
UID:4da19a0e-29e5-487c-bd1d-69342ba860e7
X-WR-CALNAME:iCagenda
X-WR-CALDESC:Event Management Extension for Joomla!
X-WR-RELCALID:3E26604A-50F4-4449-8B3E-E4F4932D05B5
X-WR-TIMEZONE:UTC
BEGIN:VTIMEZONE
TZID:UTC
END:VTIMEZONE
BEGIN:VEVENT
UID:6f258410-fc63-4585-bf6b-2bd312623fc7
DTSTAMP:20260423T071223Z
CATEGORIES:Bourses Minéraux & Fossiles
CLASS:PUBLIC
DESCRIPTION:
DTSTART:20260912T100000Z
DTEND:20260913T180000Z
GEO:+48.581501;-2.05912
LOCATION:Pleurtuit  proche Dinard (35)
ORGANIZER:
SEQUENCE:1
SUMMARY:19 e Bourse Minéraux \, Fossiles\, Pierres taillées\, livres ...
TRANSP:OPAQUE
URL:https://geopolis.fr/agenda/toutes-les-manifestations/770-19-e-bourse-mi
 neraux-fossiles-pierres-taillees-livres.html
END:VEVENT
END:VCALENDAR
