BEGIN:VCALENDAR
VERSION:2.0
PRODID:-//Géopolis - Confédération Française des Acteurs en Sciences de la 
 Terre//NONSGML kigkonsult.se iCalcreator 2.30.10//
CALSCALE:GREGORIAN
METHOD:PUBLISH
UID:2c4b1452-52b8-4750-aec4-7ca17563fb46
X-WR-CALNAME:iCagenda
X-WR-CALDESC:Event Management Extension for Joomla!
X-WR-RELCALID:3E26604A-50F4-4449-8B3E-E4F4932D05B5
X-WR-TIMEZONE:UTC
BEGIN:VTIMEZONE
TZID:UTC
END:VTIMEZONE
BEGIN:VEVENT
UID:12eb5405-6235-4c7f-9315-5ce8cf9a5ce6
DTSTAMP:20260424T093002Z
CATEGORIES:Bourses Minéraux & Fossiles
CLASS:PUBLIC
DESCRIPTION:
DTSTART:20260516T100000Z
DTEND:20260517T180000Z
GEO:+43.123741;+0.383618
LOCATION:Salle des Fêtes\, 231 Rue Thiers 65300 Lannemezan
ORGANIZER;CN=:davidchauvaud@yahoo.fr
SEQUENCE:1
SUMMARY:3e SALON MINERAUX FOSSILES BIJOUX de LANNEMEZAN (Hautes-Pyrénées)
TRANSP:OPAQUE
URL:https://geopolis.fr/agenda/toutes-les-manifestations/811-3e-salon-miner
 aux-fossiles-bijoux-de-lannemezan-hautes-pyrenees.html
END:VEVENT
END:VCALENDAR
